BEGIN:VCALENDAR
VERSION:2.0
PRODID:-//eventon.com NONSGML v1.0//EN
CALSCALE:GREGORIAN
METHOD:PUBLISH
BEGIN:VEVENT
UID:69ecc77c1891e
DTSTAMP:20260425T135404Z
DTSTART:20260926T143000Z
DTEND:20260926T180000Z
LOCATION:
SUMMARY:Kirche Kunterbunt
DESCRIPTION:Kirche Kunterbunt\nhttps://rheinbogenjugend.de/events/kirche-ku
 nterbunt-2/
URL:https://rheinbogenjugend.de/events/kirche-kunterbunt-2/
END:VEVENT
END:VCALENDAR