BEGIN:VCALENDAR
VERSION:2.0
PRODID:-//eventon.com NONSGML v1.0//EN
CALSCALE:GREGORIAN
METHOD:PUBLISH
BEGIN:VEVENT
UID:69ecb194a1678
DTSTAMP:20260425T122036Z
DTSTART:20260509T143000Z
DTEND:20260509T180000Z
LOCATION:
SUMMARY:Kirche Kunterbunt
DESCRIPTION:Kirche Kunterbunt\nhttps://rheinbogenjugend.de/events/kirche-ku
 nterbunt/
URL:https://rheinbogenjugend.de/events/kirche-kunterbunt/
END:VEVENT
END:VCALENDAR