BEGIN:VCALENDAR
VERSION:2.0
PRODID:-//eventon.com NONSGML v1.0//EN
CALSCALE:GREGORIAN
METHOD:PUBLISH
BEGIN:VEVENT
UID:69ec9a1b71941
DTSTAMP:20260425T104027Z
DTSTART:20240402T120000Z
DTEND:20240406T173000Z
LOCATION:
SUMMARY:GGK Mini I 2024
DESCRIPTION:Vortreffen: Dienstag\,  19.03.24 I 18 - 21 Uhr I KJA Köln Schu
 lungswoche: Di 02.04. bis Sa 06.04.2024 I 12 bis ca. 17:30 Uhr I Haus Venus
 berg (Bonn) Dieser Kurs kann von allen Jugendleiter*innen besucht werden un
 d enthält die gleichen Basis-Inhalte wie alle Schulungen. Zusätzlich biet
 et der Kurs besondere Elemente\,  Ideen[..]\nhttps://rheinbogenjugend.de/ev
 ents/ggk-mini-i-2024/
URL:https://rheinbogenjugend.de/events/ggk-mini-i-2024/
END:VEVENT
END:VCALENDAR