BEGIN:VCALENDAR
VERSION:2.0
PRODID:-//eventon.com NONSGML v1.0//EN
CALSCALE:GREGORIAN
METHOD:PUBLISH
BEGIN:VEVENT
UID:69ea28a4c898e
DTSTAMP:20260423T141148Z
DTSTART:20231015T140000Z
DTEND:20231015T235000Z
LOCATION:
SUMMARY:Planungstreffen Messdiener St. Georg
DESCRIPTION:Gemeinsam wollen wir an diesem Tag einen Spielenachmittag plane
 n und organisieren. Gerne vorher schon ein paar Gedanken machen.\nhttps://r
 heinbogenjugend.de/events/planungstreffen-messdiener-st-georg/
URL:https://rheinbogenjugend.de/events/planungstreffen-messdiener-st-georg/
END:VEVENT
END:VCALENDAR