BEGIN:VCALENDAR
VERSION:2.0
PRODID:-//eventon.com NONSGML v1.0//EN
CALSCALE:GREGORIAN
METHOD:PUBLISH
BEGIN:VEVENT
UID:69e5806d61f78
DTSTAMP:20260420T012501Z
DTSTART:20240614T163000Z
DTEND:20240616T140000Z
LOCATION:
SUMMARY:Leiterfahrt der Rheinbogen-Minis
DESCRIPTION:Leiterfahrt der Rheinbogen-Minis zum gemeinsamen Arbeiten! Anme
 ldung und Infos folgen!\nhttps://rheinbogenjugend.de/events/leiterfahrt-der
 -rheinbogen-minis/
URL:https://rheinbogenjugend.de/events/leiterfahrt-der-rheinbogen-minis/
END:VEVENT
END:VCALENDAR