BEGIN:VCALENDAR
VERSION:2.0
PRODID:-//eventon.com NONSGML v1.0//EN
CALSCALE:GREGORIAN
METHOD:PUBLISH
BEGIN:VEVENT
UID:69e4f1717e74d
DTSTAMP:20260419T151457Z
DTSTART:20240215T173000Z
DTEND:20240215T235000Z
LOCATION:
SUMMARY:Vortreffen Firmprojekt: Sacred Snapshots
DESCRIPTION:Vortreffen Firmprojekt: Sacred Snapshots\nhttps://rheinbogenjug
 end.de/events/vortreffen-firmprojekt-sacred-snapshots/
URL:https://rheinbogenjugend.de/events/vortreffen-firmprojekt-sacred-snapshots/
END:VEVENT
END:VCALENDAR