BEGIN:VCALENDAR
VERSION:2.0
PRODID:-//eventon.com NONSGML v1.0//EN
CALSCALE:GREGORIAN
METHOD:PUBLISH
BEGIN:VEVENT
UID:69ed3f4c556b5
DTSTAMP:20260425T222516Z
DTSTART:20240223T170000Z
DTEND:20240225T120000Z
LOCATION:
SUMMARY:Firmprojekt Verbindung²
DESCRIPTION:Wie bereits vereinbart findet an diesem Wochenende das Firmproj
 ekt 04: Verbindung² im Gästehaus Eifel in Schleiden statt. Beginn ist am 
 Freitag\,  den 23.02. um 17:00 Uhr; Ende am Sonntag\,  den 25.02\,  um 12:0
 0 Uhr. Bitte denkt an Bettzeug\,  Trinkflasche\,  Handtücher\,  Haus- und 
 Hallenschuhe und eventuell Snacks.\nhttps://rheinbogenjugend.de/events/firm
 projekt-verbindung%c2%b2/
URL:https://rheinbogenjugend.de/events/firmprojekt-verbindung%c2%b2/
END:VEVENT
END:VCALENDAR